BEGIN:VCALENDAR
VERSION:2.0
PRODID:-//Office of Community-Engaged Learning - ECPv6.15.20//NONSGML v1.0//EN
CALSCALE:GREGORIAN
METHOD:PUBLISH
X-WR-CALNAME:Office of Community-Engaged Learning
X-ORIGINAL-URL:https://pages.vassar.edu/officeofcommunityengagedlearning
X-WR-CALDESC:Events for Office of Community-Engaged Learning
REFRESH-INTERVAL;VALUE=DURATION:PT1H
X-Robots-Tag:noindex
X-PUBLISHED-TTL:PT1H
BEGIN:VTIMEZONE
TZID:America/New_York
BEGIN:DAYLIGHT
TZOFFSETFROM:-0500
TZOFFSETTO:-0400
TZNAME:EDT
DTSTART:20210314T070000
END:DAYLIGHT
BEGIN:STANDARD
TZOFFSETFROM:-0400
TZOFFSETTO:-0500
TZNAME:EST
DTSTART:20211107T060000
END:STANDARD
BEGIN:DAYLIGHT
TZOFFSETFROM:-0500
TZOFFSETTO:-0400
TZNAME:EDT
DTSTART:20220313T070000
END:DAYLIGHT
BEGIN:STANDARD
TZOFFSETFROM:-0400
TZOFFSETTO:-0500
TZNAME:EST
DTSTART:20221106T060000
END:STANDARD
BEGIN:DAYLIGHT
TZOFFSETFROM:-0500
TZOFFSETTO:-0400
TZNAME:EDT
DTSTART:20230312T070000
END:DAYLIGHT
BEGIN:STANDARD
TZOFFSETFROM:-0400
TZOFFSETTO:-0500
TZNAME:EST
DTSTART:20231105T060000
END:STANDARD
END:VTIMEZONE
BEGIN:VEVENT
DTSTART;TZID=America/New_York:20220217T183000
DTEND;TZID=America/New_York:20220217T200000
DTSTAMP:20260421T101117
CREATED:20220215T171931Z
LAST-MODIFIED:20220215T171931Z
UID:6884-1645122600-1645128000@pages.vassar.edu
SUMMARY:City of Poughkeepsie Public Arts Commission Monthly Meeting (virtual)
DESCRIPTION:Hear what’s new with the arts in the City of Poughkeepsie! Register and review the agenda here.
URL:https://pages.vassar.edu/officeofcommunityengagedlearning/event/city-of-poughkeepsie-public-arts-commission-monthly-meeting-virtual/
CATEGORIES:Arts
END:VEVENT
BEGIN:VEVENT
DTSTART;TZID=America/New_York:20220217T190000
DTEND;TZID=America/New_York:20220217T200000
DTSTAMP:20260421T101117
CREATED:20220215T150937Z
LAST-MODIFIED:20220215T150937Z
UID:6869-1645124400-1645128000@pages.vassar.edu
SUMMARY:An Evening of Poetry featuring Stefan Bolz (in-person)
DESCRIPTION:Stefan Bolz writes novels\, poetry\, essays\, and shorts. His stories have appeared in numerous anthologies\, including the award winning Future Chronicles. Register here!
URL:https://pages.vassar.edu/officeofcommunityengagedlearning/event/an-evening-of-poetry-featuring-stefan-bolz-in-person/
LOCATION:Adriance Memorial Library\, 93 Market Street\, Poughkeepsie\, NY\, 12601\, United States
END:VEVENT
BEGIN:VEVENT
DTSTART;TZID=America/New_York:20220217T190000
DTEND;TZID=America/New_York:20220217T200000
DTSTAMP:20260421T101117
CREATED:20220217T202751Z
LAST-MODIFIED:20220217T202751Z
UID:6983-1645124400-1645128000@pages.vassar.edu
SUMMARY:Author Talk: Andrea C. Mosterman\, Spaces of Enslavement: A History of Slavery and Resistance in Dutch New York (virtual)
DESCRIPTION:Andrea Mosterman is associate professor in Atlantic History and Joseph Tregle Professor in Early American History at the University of New Orleans. In her work\, she explores the multi-faceted dimensions of slavery\, slave trade\, and cross-cultural contact in the Dutch Atlantic and Early America with special emphasis on Early New York. Register here! \nAndrea Mosterman has published her work in the Journal of African History and Early American Studies\, and she curated the digital exhibit “Slavery in New Netherland” for the New Netherland Institute. Her book Spaces of Enslavement: A History of Slavery and Resistance in Dutch New York (Cornell University Press\, 2021) won the 2020 Hendricks Award for best book-length manuscript relating to New Netherland and the Dutch colonial experience.
URL:https://pages.vassar.edu/officeofcommunityengagedlearning/event/author-talk-andrea-c-mosterman-spaces-of-enslavement-a-history-of-slavery-and-resistance-in-dutch-new-york-virtual/
CATEGORIES:local history
END:VEVENT
END:VCALENDAR