BEGIN:VCALENDAR
VERSION:2.0
PRODID:-//Office of Community-Engaged Learning - ECPv6.15.20//NONSGML v1.0//EN
CALSCALE:GREGORIAN
METHOD:PUBLISH
X-ORIGINAL-URL:https://pages.vassar.edu/officeofcommunityengagedlearning
X-WR-CALDESC:Events for Office of Community-Engaged Learning
REFRESH-INTERVAL;VALUE=DURATION:PT1H
X-Robots-Tag:noindex
X-PUBLISHED-TTL:PT1H
BEGIN:VTIMEZONE
TZID:America/New_York
BEGIN:DAYLIGHT
TZOFFSETFROM:-0500
TZOFFSETTO:-0400
TZNAME:EDT
DTSTART:20210314T070000
END:DAYLIGHT
BEGIN:STANDARD
TZOFFSETFROM:-0400
TZOFFSETTO:-0500
TZNAME:EST
DTSTART:20211107T060000
END:STANDARD
BEGIN:DAYLIGHT
TZOFFSETFROM:-0500
TZOFFSETTO:-0400
TZNAME:EDT
DTSTART:20220313T070000
END:DAYLIGHT
BEGIN:STANDARD
TZOFFSETFROM:-0400
TZOFFSETTO:-0500
TZNAME:EST
DTSTART:20221106T060000
END:STANDARD
BEGIN:DAYLIGHT
TZOFFSETFROM:-0500
TZOFFSETTO:-0400
TZNAME:EDT
DTSTART:20230312T070000
END:DAYLIGHT
BEGIN:STANDARD
TZOFFSETFROM:-0400
TZOFFSETTO:-0500
TZNAME:EST
DTSTART:20231105T060000
END:STANDARD
END:VTIMEZONE
BEGIN:VEVENT
DTSTART;TZID=America/New_York:20220210T190000
DTEND;TZID=America/New_York:20220210T200000
DTSTAMP:20260421T102409
CREATED:20220203T171133Z
LAST-MODIFIED:20220203T171723Z
UID:6773-1644519600-1644523200@pages.vassar.edu
SUMMARY:Historic District and Landmark Preservation Commission Meeting (virtual)
DESCRIPTION:On the agenda: \n\n19 Garfield Place\n36 North Clover Street – review of new construction\, alteration\, repairs\, etc.\n\nRegister here!
URL:https://pages.vassar.edu/officeofcommunityengagedlearning/event/historic-district-landmark-preservation-commission-meeting-virtual/
CATEGORIES:local government,Local politics
END:VEVENT
END:VCALENDAR